BEGIN:VCALENDAR
VERSION:2.0
PRODID:-//City of Antioch, California - ECPv4.6.26.1//NONSGML v1.0//EN
CALSCALE:GREGORIAN
METHOD:PUBLISH
X-WR-CALNAME:City of Antioch, California
X-ORIGINAL-URL:https://www.awegov.com
X-WR-CALDESC:Events for City of Antioch, California
BEGIN:VEVENT
DTSTART;TZID=UTC-8:20231214T150000
DTEND;TZID=UTC-8:20231214T150000
DTSTAMP:20260421T190836
CREATED:20231209T201150Z
LAST-MODIFIED:20231209T201150Z
UID:96414-1702566000-1702566000@www.awegov.com
SUMMARY:Zoning Administrator Meeting
DESCRIPTION:Agenda \n
URL:https://www.awegov.com/event/zoning-administrator-meeting-4-2-2-3-2-2-4-2-2-2-2-2-2-2-2-2-2-2-2-2-2-2/
CATEGORIES:Zoning Administrator Meeting
ATTACH;FMTTYPE=image/jpeg:https://www.awegov.com/wp-content/uploads/2017/04/event-zoning-meeting.jpg
END:VEVENT
END:VCALENDAR