BEGIN:VCALENDAR
VERSION:2.0
PRODID:-//City of Antioch, California - ECPv4.6.26.1//NONSGML v1.0//EN
CALSCALE:GREGORIAN
METHOD:PUBLISH
X-WR-CALNAME:City of Antioch, California
X-ORIGINAL-URL:https://www.awegov.com
X-WR-CALDESC:Events for City of Antioch, California
BEGIN:VEVENT
DTSTART;TZID=UTC-8:20240711T150000
DTEND;TZID=UTC-8:20240711T150000
DTSTAMP:20260422T221423
CREATED:20240703T183800Z
LAST-MODIFIED:20240703T183800Z
UID:101671-1720710000-1720710000@www.awegov.com
SUMMARY:Zoning Administrator Meeting
DESCRIPTION:Agenda \n
URL:https://www.awegov.com/event/zoning-administrator-meeting-4-2-2-3-2-2-4-2-2-2-2-2-2-2-2-2-2-2-2-2-2-2-2-2-2/
CATEGORIES:Zoning Administrator Meeting
ATTACH;FMTTYPE=image/jpeg:https://www.awegov.com/wp-content/uploads/2017/04/event-zoning-meeting.jpg
END:VEVENT
END:VCALENDAR