BEGIN:VCALENDAR
VERSION:2.0
PRODID:-//City of Antioch, California - ECPv4.6.26.1//NONSGML v1.0//EN
CALSCALE:GREGORIAN
METHOD:PUBLISH
X-WR-CALNAME:City of Antioch, California
X-ORIGINAL-URL:https://www.awegov.com
X-WR-CALDESC:Events for City of Antioch, California
BEGIN:VEVENT
DTSTART;TZID=UTC-8:20201120T110000
DTEND;TZID=UTC-8:20201120T110000
DTSTAMP:20260423T110933
CREATED:20201023T183550Z
LAST-MODIFIED:20201120T174019Z
UID:50359-1605870000-1605870000@www.awegov.com
SUMMARY:Waterfront Revitalization Committee Meeting
DESCRIPTION:The Antioch City Council: Waterfront Revitalization Committee Meeting \nAgenda \n
URL:https://www.awegov.com/event/waterfront-revitalization-committee-meeting-2/
CATEGORIES:City Council Meeting
ATTACH;FMTTYPE=image/jpeg:https://www.awegov.com/wp-content/uploads/2020/10/wrc-cal-img.jpg
END:VEVENT
END:VCALENDAR