BEGIN:VCALENDAR
VERSION:2.0
PRODID:-//City of Antioch, California - ECPv4.6.26.1//NONSGML v1.0//EN
CALSCALE:GREGORIAN
METHOD:PUBLISH
X-WR-CALNAME:City of Antioch, California
X-ORIGINAL-URL:https://www.awegov.com
X-WR-CALDESC:Events for City of Antioch, California
BEGIN:VEVENT
DTSTART;VALUE=DATE:20240705
DTEND;VALUE=DATE:20240706
DTSTAMP:20260423T034813
CREATED:20240404T171724Z
LAST-MODIFIED:20240404T171844Z
UID:99310-1720137600-1720223999@www.awegov.com
SUMMARY:Water Park After Dark: Carnival Night
DESCRIPTION:
URL:https://www.awegov.com/event/water-park-after-dark-carnival-night/
CATEGORIES:Events,Water Park Events
END:VEVENT
END:VCALENDAR