BEGIN:VCALENDAR
VERSION:2.0
PRODID:-//City of Antioch, California - ECPv4.6.26.1//NONSGML v1.0//EN
CALSCALE:GREGORIAN
METHOD:PUBLISH
X-WR-CALNAME:City of Antioch, California
X-ORIGINAL-URL:https://www.awegov.com
X-WR-CALDESC:Events for City of Antioch, California
BEGIN:VEVENT
DTSTART;TZID=UTC-8:20210212T180000
DTEND;TZID=UTC-8:20210212T180000
DTSTAMP:20260423T062523
CREATED:20210114T175711Z
LAST-MODIFIED:20210213T003308Z
UID:52611-1613152800-1613152800@www.awegov.com
SUMMARY:City Council Special Meeting: Vision & Strategic Planning
DESCRIPTION:Vision & Strategic Planning \nAgenda \nZoom Registration \n
URL:https://www.awegov.com/event/vision-strategic-planning/
CATEGORIES:Meetings,Special Meeting
ATTACH;FMTTYPE=image/jpeg:https://www.awegov.com/wp-content/uploads/2021/01/special-meeting.jpg
END:VEVENT
END:VCALENDAR