BEGIN:VCALENDAR
VERSION:2.0
PRODID:-//City of Antioch, California - ECPv4.6.26.1//NONSGML v1.0//EN
CALSCALE:GREGORIAN
METHOD:PUBLISH
X-WR-CALNAME:City of Antioch, California
X-ORIGINAL-URL:https://www.awegov.com
X-WR-CALDESC:Events for City of Antioch, California
BEGIN:VEVENT
DTSTART;VALUE=DATE:20221111
DTEND;VALUE=DATE:20221112
DTSTAMP:20260422T111730
CREATED:20211128T212211Z
LAST-MODIFIED:20211128T212211Z
UID:63189-1668124800-1668211199@www.awegov.com
SUMMARY:Veteran's Day
DESCRIPTION:City Holiday\n City Offices are Closed \n
URL:https://www.awegov.com/event/veterans-day-2017-2-2-2-2/
CATEGORIES:Holidays
ATTACH;FMTTYPE=image/jpeg:https://www.awegov.com/wp-content/uploads/2017/09/holidays-generic.jpg
END:VEVENT
END:VCALENDAR