BEGIN:VCALENDAR
VERSION:2.0
PRODID:-//City of Antioch, California - ECPv4.6.26.1//NONSGML v1.0//EN
CALSCALE:GREGORIAN
METHOD:PUBLISH
X-WR-CALNAME:City of Antioch, California
X-ORIGINAL-URL:https://www.awegov.com
X-WR-CALDESC:Events for City of Antioch, California
BEGIN:VEVENT
DTSTART;TZID=UTC-8:20240202T123000
DTEND;TZID=UTC-8:20240202T163000
DTSTAMP:20260424T101759
CREATED:20240130T184654Z
LAST-MODIFIED:20240130T184654Z
UID:97762-1706877000-1706891400@www.awegov.com
SUMMARY:Unhoused Resident Services Resource Fair
DESCRIPTION:Tri Delta Transit will be supporting transportation to the event by providing stops at 4 locations. Slatten Ranch Across from JC Penny\, 2800 Wilbur\, Cavallo and 18th St. and Sunset at Devpar every hour starting from 11:45am With the last pickup at 3:30pm. For more information\, please email urc@antiochca.gov \nSee flyer here \n
URL:https://www.awegov.com/event/unhoused-resident-services-resource-fair-2/
LOCATION:Nick Rodriguez Community Center\, 213 “F” Street\, Antioch\, CA\, 94509\, United States
CATEGORIES:Events
ATTACH;FMTTYPE=image/jpeg:https://www.awegov.com/wp-content/uploads/2024/01/urs-resource-fair-flyer-2024.jpg
END:VEVENT
END:VCALENDAR