BEGIN:VCALENDAR
VERSION:2.0
PRODID:-//City of Antioch, California - ECPv4.6.26.1//NONSGML v1.0//EN
CALSCALE:GREGORIAN
METHOD:PUBLISH
X-WR-CALNAME:City of Antioch, California
X-ORIGINAL-URL:https://www.awegov.com
X-WR-CALDESC:Events for City of Antioch, California
BEGIN:VEVENT
DTSTART;VALUE=DATE:20241129
DTEND;VALUE=DATE:20241130
DTSTAMP:20260422T122519
CREATED:20231219T184209Z
LAST-MODIFIED:20231219T184255Z
UID:96845-1732838400-1732924799@www.awegov.com
SUMMARY:Day after Thanksgiving
DESCRIPTION:City Holiday\n City Offices are Closed \n
URL:https://www.awegov.com/event/thanksgiving-2-2-2-2-2-2-2/
CATEGORIES:Holidays
ATTACH;FMTTYPE=image/jpeg:https://www.awegov.com/wp-content/uploads/2017/09/holidays-generic.jpg
END:VEVENT
END:VCALENDAR