BEGIN:VCALENDAR
VERSION:2.0
PRODID:-//City of Antioch, California - ECPv4.6.26.1//NONSGML v1.0//EN
CALSCALE:GREGORIAN
METHOD:PUBLISH
X-WR-CALNAME:City of Antioch, California
X-ORIGINAL-URL:https://www.awegov.com
X-WR-CALDESC:Events for City of Antioch, California
BEGIN:VEVENT
DTSTART;TZID=UTC-8:20220702T150000
DTEND;TZID=UTC-8:20220702T210000
DTSTAMP:20260422T192429
CREATED:20220609T174731Z
LAST-MODIFIED:20220609T180039Z
UID:68043-1656774000-1656795600@www.awegov.com
SUMMARY:Sesquicentennial Concert in The Park
DESCRIPTION:Sesquicentennial Concert in The Park \nJuly 2nd\, 2022 3pm – 9pm \nWilliamson Ranch Park \nCalling out all music enthusiasts. Bring your chairs\, blankets and enjoy several bands that will be performing at Williamson Park that will get you movin and groovin!. Blind to Reason 3pm – 4:30pm\, Groove Ride 5pm – 6;30pm\, Project 4 Band 7pm – 8:30pm. There will be Food trucks to purchase food or bring your own and make a day of it. This is a free\, fun\, family friendly event you won’t want to miss! \n
URL:https://www.awegov.com/event/sesquicentennial-concert-in-the-park/
LOCATION:Williamson Ranch Park\, Williamson Ranch Dr\, Antioch\, CA\, 94531\, United States
CATEGORIES:Events
ATTACH;FMTTYPE=image/jpeg:https://www.awegov.com/wp-content/uploads/2022/06/concert-in-the-park-2022.jpg
END:VEVENT
END:VCALENDAR