BEGIN:VCALENDAR
VERSION:2.0
PRODID:-//City of Antioch, California - ECPv4.6.26.1//NONSGML v1.0//EN
CALSCALE:GREGORIAN
METHOD:PUBLISH
X-WR-CALNAME:City of Antioch, California
X-ORIGINAL-URL:https://www.awegov.com
X-WR-CALDESC:Events for City of Antioch, California
BEGIN:VEVENT
DTSTART;TZID=UTC-8:20220201T180000
DTEND;TZID=UTC-8:20220201T180000
DTSTAMP:20260422T055108
CREATED:20220103T173104Z
LAST-MODIFIED:20220128T010240Z
UID:63963-1643738400-1643738400@www.awegov.com
SUMMARY:Sales Tax Citizens' Oversight Committee Meeting
DESCRIPTION:Agenda \n
URL:https://www.awegov.com/event/sales-tax-citizens-oversight-committee-meeting-2-2-3-2-3-2-3/
LOCATION:CA\, United States
CATEGORIES:Sales Tax Oversight
ATTACH;FMTTYPE=image/jpeg:https://www.awegov.com/wp-content/uploads/2019/12/event-tax-meeting.jpg
END:VEVENT
END:VCALENDAR