BEGIN:VCALENDAR
VERSION:2.0
PRODID:-//City of Antioch, California - ECPv4.6.26.1//NONSGML v1.0//EN
CALSCALE:GREGORIAN
METHOD:PUBLISH
X-WR-CALNAME:City of Antioch, California
X-ORIGINAL-URL:https://www.awegov.com
X-WR-CALDESC:Events for City of Antioch, California
BEGIN:VEVENT
DTSTART;VALUE=DATE:20201007
DTEND;VALUE=DATE:20201008
DTSTAMP:20260423T160007
CREATED:20200605T174813Z
LAST-MODIFIED:20201001T163111Z
UID:45434-1602028800-1602115199@www.awegov.com
SUMMARY:Planning Commission Meeting Canceled
DESCRIPTION:Meeting Canceled \n
URL:https://www.awegov.com/event/planning-commission-meeting-29-2-2-2-2-2-2-2-2-2-2-3-2-2-2-2-2-2-2-2-2-3-2-2-2-2-2-2-2-2-2-2-2-2-2-2-2-2-2-2/
CATEGORIES:Planning Commission Meeting
ATTACH;FMTTYPE=image/jpeg:https://www.awegov.com/wp-content/uploads/2017/04/event-planning-meeting.jpg
END:VEVENT
END:VCALENDAR