BEGIN:VCALENDAR
VERSION:2.0
PRODID:-//City of Antioch, California - ECPv4.6.26.1//NONSGML v1.0//EN
CALSCALE:GREGORIAN
METHOD:PUBLISH
X-WR-CALNAME:City of Antioch, California
X-ORIGINAL-URL:https://www.awegov.com
X-WR-CALDESC:Events for City of Antioch, California
BEGIN:VEVENT
DTSTART;TZID=UTC-8:20201216T183000
DTEND;TZID=UTC-8:20201216T183000
DTSTAMP:20260423T142948
CREATED:20200605T175235Z
LAST-MODIFIED:20201211T213059Z
UID:45444-1608143400-1608143400@www.awegov.com
SUMMARY:Planning Commission Meeting
DESCRIPTION:Meets on the 1st and 3rd Wednesday at 6:30 p.m. \nAgenda \n
URL:https://www.awegov.com/event/planning-commission-meeting-29-2-2-2-2-2-2-2-2-2-2-3-2-2-2-2-2-2-2-2-2-3-2-2-2-2-2-2-2-2-2-2-2-2-2-2-2-2-2-2-2-2-2-2-2/
LOCATION:Antioch Community Center\, 4703 Lone Tree Way\, Antioch\, CA\, 94531\, United States
CATEGORIES:Planning Commission Meeting
ATTACH;FMTTYPE=image/jpeg:https://www.awegov.com/wp-content/uploads/2017/04/event-planning-meeting.jpg
END:VEVENT
END:VCALENDAR