BEGIN:VCALENDAR
VERSION:2.0
PRODID:-//City of Antioch, California - ECPv4.6.26.1//NONSGML v1.0//EN
CALSCALE:GREGORIAN
METHOD:PUBLISH
X-WR-CALNAME:City of Antioch, California
X-ORIGINAL-URL:https://www.awegov.com
X-WR-CALDESC:Events for City of Antioch, California
BEGIN:VEVENT
DTSTART;TZID=UTC-8:20210217T183000
DTEND;TZID=UTC-8:20210217T183000
DTSTAMP:20260425T112942
CREATED:20201105T170130Z
LAST-MODIFIED:20210212T002429Z
UID:50787-1613586600-1613586600@www.awegov.com
SUMMARY:Planning Commission Meeting
DESCRIPTION:Meets on the 1st and 3rd Wednesday at 6:30 p.m. \n\n\n\nAgenda\n\n\n\n
URL:https://www.awegov.com/event/planning-commission-meeting-29-2-2-2-2-2-2-2-2-2-2-3-2-2-2-2-2-2-2-2-2-3-2-2-2-2-2-2-2-2-2-2-2-2-2-2-2-2-2-2-2-2-2-2-2-2-2-2-2/
CATEGORIES:Planning Commission Meeting
ATTACH;FMTTYPE=image/jpeg:https://www.awegov.com/wp-content/uploads/2017/04/event-planning-meeting.jpg
END:VEVENT
END:VCALENDAR