BEGIN:VCALENDAR
VERSION:2.0
PRODID:-//City of Antioch, California - ECPv4.6.26.1//NONSGML v1.0//EN
CALSCALE:GREGORIAN
METHOD:PUBLISH
X-WR-CALNAME:City of Antioch, California
X-ORIGINAL-URL:https://www.awegov.com
X-WR-CALDESC:Events for City of Antioch, California
BEGIN:VEVENT
DTSTART;VALUE=DATE:20220803
DTEND;VALUE=DATE:20220804
DTSTAMP:20260422T225119
CREATED:20211128T221703Z
LAST-MODIFIED:20220721T165837Z
UID:63375-1659484800-1659571199@www.awegov.com
SUMMARY:Planning Commission Meeting Cancelled
DESCRIPTION:Meeting Cancelled \n
URL:https://www.awegov.com/event/planning-commission-meeting-29-2-2-2-2-2-2-2-2-2-2-3-2-2-2-2-2-2-2-2-2-3-2-2-2-2-2-2-2-2-2-2-2-2-2-2-2-2-2-2-2-2-2-2-2-2-2-2-2-2-2-2-2-2-2-2-2-2-2-2-2-2-2-2-2-2-2-2-2-2-2-2-2-2-2-2-2-2-2-2-2-2-2-2/
CATEGORIES:Planning Commission Meeting
ATTACH;FMTTYPE=image/jpeg:https://www.awegov.com/wp-content/uploads/2017/04/event-planning-meeting.jpg
END:VEVENT
END:VCALENDAR