BEGIN:VCALENDAR
VERSION:2.0
PRODID:-//City of Antioch, California - ECPv4.6.26.1//NONSGML v1.0//EN
CALSCALE:GREGORIAN
METHOD:PUBLISH
X-WR-CALNAME:City of Antioch, California
X-ORIGINAL-URL:https://www.awegov.com
X-WR-CALDESC:Events for City of Antioch, California
BEGIN:VEVENT
DTSTART;TZID=UTC-8:20200820T190000
DTEND;TZID=UTC-8:20200820T190000
DTSTAMP:20260423T155006
CREATED:20200605T181008Z
LAST-MODIFIED:20200817T145825Z
UID:45462-1597950000-1597950000@www.awegov.com
SUMMARY:Parks & Recreation Meeting
DESCRIPTION:Meets at 7:00 p.m. on the third Thursday of every month. \n\n\n\nAgenda\n\n\n\n
URL:https://www.awegov.com/event/parks-recreation-meeting-15-2-2-2-2-2-3-2-2-2-2-2-2-2-2-2-2-2-2-2/
LOCATION:Antioch Community Center\, 4703 Lone Tree Way\, Antioch\, CA\, 94531\, United States
CATEGORIES:Parks & Recreation Meeting
ATTACH;FMTTYPE=image/jpeg:https://www.awegov.com/wp-content/uploads/2017/04/event-parks-meeting.jpg
END:VEVENT
END:VCALENDAR