BEGIN:VCALENDAR
VERSION:2.0
PRODID:-//City of Antioch, California - ECPv4.6.26.1//NONSGML v1.0//EN
CALSCALE:GREGORIAN
METHOD:PUBLISH
X-WR-CALNAME:City of Antioch, California
X-ORIGINAL-URL:https://www.awegov.com
X-WR-CALDESC:Events for City of Antioch, California
BEGIN:VEVENT
DTSTART;VALUE=DATE:20201015
DTEND;VALUE=DATE:20201016
DTSTAMP:20260423T142617
CREATED:20200605T181135Z
LAST-MODIFIED:20201012T182923Z
UID:45466-1602720000-1602806399@www.awegov.com
SUMMARY:Parks & Recreation Meeting Canceled
DESCRIPTION:Meeting Canceled \n
URL:https://www.awegov.com/event/parks-recreation-meeting-15-2-2-2-2-2-3-2-2-2-2-2-2-2-2-2-2-2-2-2-2-2/
CATEGORIES:Parks & Recreation Meeting
ATTACH;FMTTYPE=image/jpeg:https://www.awegov.com/wp-content/uploads/2017/04/event-parks-meeting.jpg
END:VEVENT
END:VCALENDAR