BEGIN:VCALENDAR
VERSION:2.0
PRODID:-//City of Antioch, California - ECPv4.6.26.1//NONSGML v1.0//EN
CALSCALE:GREGORIAN
METHOD:PUBLISH
X-WR-CALNAME:City of Antioch, California
X-ORIGINAL-URL:https://www.awegov.com
X-WR-CALDESC:Events for City of Antioch, California
BEGIN:VEVENT
DTSTART;VALUE=DATE:20220818
DTEND;VALUE=DATE:20220819
DTSTAMP:20260422T225009
CREATED:20211128T220453Z
LAST-MODIFIED:20220813T192558Z
UID:63336-1660780800-1660867199@www.awegov.com
SUMMARY:Parks & Recreation Meeting Canceled
DESCRIPTION:Meeting Canceled \n
URL:https://www.awegov.com/event/parks-recreation-meeting-15-2-2-2-2-2-3-2-2-2-2-2-2-2-2-2-2-2-2-2-2-2-2-2-2-2-2-2-2-2-2-2-2-2-2-2-2-2-2-2-2-2-2-2/
CATEGORIES:Parks & Recreation Meeting
ATTACH;FMTTYPE=image/jpeg:https://www.awegov.com/wp-content/uploads/2017/04/event-parks-meeting.jpg
END:VEVENT
END:VCALENDAR