BEGIN:VCALENDAR
VERSION:2.0
PRODID:-//City of Antioch, California - ECPv4.6.26.1//NONSGML v1.0//EN
CALSCALE:GREGORIAN
METHOD:PUBLISH
X-WR-CALNAME:City of Antioch, California
X-ORIGINAL-URL:https://www.awegov.com
X-WR-CALDESC:Events for City of Antioch, California
BEGIN:VEVENT
DTSTART;TZID=UTC-8:20251218T190000
DTEND;TZID=UTC-8:20251218T190000
DTSTAMP:20260422T022933
CREATED:20241212T204048Z
LAST-MODIFIED:20241212T204048Z
UID:111699-1766084400-1766084400@www.awegov.com
SUMMARY:Parks & Recreation Meeting
DESCRIPTION:Meets at 7:00 p.m. on the third Thursday of every month. \n
URL:https://www.awegov.com/event/parks-recreation-meeting-15-2-2-2-2-2-3-2-2-2-2-2-2-2-2-2-2-2-2-2-2-2-2-2-2-2-2-2-2-2-2-2-2-2-2-2-2-2-2-2-2-2-2-2-2-2-2-2-2-2-2-2-2-2-2-2-2-2-2-2-2-11-12/
CATEGORIES:Parks & Recreation Meeting
ATTACH;FMTTYPE=image/jpeg:https://www.awegov.com/wp-content/uploads/2017/04/event-parks-meeting.jpg
END:VEVENT
END:VCALENDAR