BEGIN:VCALENDAR
VERSION:2.0
PRODID:-//City of Antioch, California - ECPv4.6.26.1//NONSGML v1.0//EN
CALSCALE:GREGORIAN
METHOD:PUBLISH
X-WR-CALNAME:City of Antioch, California
X-ORIGINAL-URL:https://www.awegov.com
X-WR-CALDESC:Events for City of Antioch, California
BEGIN:VEVENT
DTSTART;VALUE=DATE:20240501
DTEND;VALUE=DATE:20240502
DTSTAMP:20260424T101735
CREATED:20240105T174739Z
LAST-MODIFIED:20240404T172042Z
UID:97212-1714521600-1714607999@www.awegov.com
SUMMARY:Online store opens
DESCRIPTION:
URL:https://www.awegov.com/event/online-store-opens/
CATEGORIES:Events,Water Park Events
END:VEVENT
END:VCALENDAR