BEGIN:VCALENDAR
VERSION:2.0
PRODID:-//City of Antioch, California - ECPv4.6.26.1//NONSGML v1.0//EN
CALSCALE:GREGORIAN
METHOD:PUBLISH
X-WR-CALNAME:City of Antioch, California
X-ORIGINAL-URL:https://www.awegov.com
X-WR-CALDESC:Events for City of Antioch, California
BEGIN:VEVENT
DTSTART;VALUE=DATE:20240101
DTEND;VALUE=DATE:20240102
DTSTAMP:20260421T224802
CREATED:20221204T143220Z
LAST-MODIFIED:20221204T143220Z
UID:72895-1704067200-1704153599@www.awegov.com
SUMMARY:New Year's Day (observed)
DESCRIPTION:City Holiday\n City Offices are Closed \n
URL:https://www.awegov.com/event/new-years-day-2-2-2-2-2-2-2/
CATEGORIES:Holidays
ATTACH;FMTTYPE=image/jpeg:https://www.awegov.com/wp-content/uploads/2017/09/holidays-generic.jpg
END:VEVENT
END:VCALENDAR