BEGIN:VCALENDAR
VERSION:2.0
PRODID:-//City of Antioch, California - ECPv4.6.26.1//NONSGML v1.0//EN
CALSCALE:GREGORIAN
METHOD:PUBLISH
X-WR-CALNAME:City of Antioch, California
X-ORIGINAL-URL:https://www.awegov.com
X-WR-CALDESC:Events for City of Antioch, California
BEGIN:VEVENT
DTSTART;TZID=UTC-8:20220319T110000
DTEND;TZID=UTC-8:20220319T130000
DTSTAMP:20260424T101646
CREATED:20220118T223159Z
LAST-MODIFIED:20220118T231419Z
UID:64292-1647687600-1647694800@www.awegov.com
SUMMARY:Box Boat Derby
DESCRIPTION:2022 Box Boat Derby \nMore Info \n
URL:https://www.awegov.com/event/neighborhood-cleanup-event-2-3-2-3/
LOCATION:Antioch Water Park\, 4701 Lone Tree Way\, Antioch\, CA\, 94531\, United States
CATEGORIES:Events
ATTACH;FMTTYPE=image/jpeg:https://www.awegov.com/wp-content/uploads/2022/01/box-boat-derby-2022-bx.jpg
END:VEVENT
END:VCALENDAR