BEGIN:VCALENDAR
VERSION:2.0
PRODID:-//City of Antioch, California - ECPv4.6.26.1//NONSGML v1.0//EN
CALSCALE:GREGORIAN
METHOD:PUBLISH
X-WR-CALNAME:City of Antioch, California
X-ORIGINAL-URL:https://www.awegov.com
X-WR-CALDESC:Events for City of Antioch, California
BEGIN:VEVENT
DTSTART;TZID=UTC-8:20230812T120000
DTEND;TZID=UTC-8:20230812T170000
DTSTAMP:20260422T001823
CREATED:20230412T204231Z
LAST-MODIFIED:20230413T215710Z
UID:76250-1691841600-1691859600@www.awegov.com
SUMMARY:Multicultural Day
DESCRIPTION:Location: Williamson Ranch Park Antioch\, CA 94531 \nIn partnership with Bay Area Backyard Movement\, the City of Antioch Recreation Department is excited to present our second annual Multicultural Day Festival! Highlighting cultural diversity and community engagement\, this event features live performances\, local vendors\, a kid’s zone and much more for all to enjoy. \nIf you have an interest in being a vendor at this event\, visit: \nhttps://docs.google.com/forms/d/e/1FAIpQLSdxkDgiKOBfB5FwODijcALYSTmhW3AfYpIe-StWUhIb13sEBg/viewform \nTo learn more about Bay Area Backyard Movement\, visit https://linktr.ee/bayareabackyardmovement \n
URL:https://www.awegov.com/event/multicultural-day/
LOCATION:CA\, United States
CATEGORIES:Events
ATTACH;FMTTYPE=image/jpeg:https://www.awegov.com/wp-content/uploads/2023/04/multicultural-festival-2.jpg
END:VEVENT
END:VCALENDAR