BEGIN:VCALENDAR
VERSION:2.0
PRODID:-//City of Antioch, California - ECPv4.6.26.1//NONSGML v1.0//EN
CALSCALE:GREGORIAN
METHOD:PUBLISH
X-WR-CALNAME:City of Antioch, California
X-ORIGINAL-URL:https://www.awegov.com
X-WR-CALDESC:Events for City of Antioch, California
BEGIN:VEVENT
DTSTART;TZID=UTC-8:20220623T180000
DTEND;TZID=UTC-8:20220623T180000
DTSTAMP:20260422T172705
CREATED:20220609T173811Z
LAST-MODIFIED:20220622T172332Z
UID:68034-1656007200-1656007200@www.awegov.com
SUMMARY:Movie Night at Antioch Water Park | Disney’s Raya and the Last Dragon
DESCRIPTION:Movie Night at Antioch Water Park \nJune 2022 Dusk \nAntioch Community Center \nFun for everyone. Bring your chairs and/or blankets to sit on the lawn and watch a movie under the stars. \nMovies will be shown on Water Park Hill and Food Truck Thursdays will be on site serving up a great selection of food! Movies start at dusk\, bring your chairs and blankets! \n\nJune 16th Disney’s Encanto\nJune 23rd Disney’s Raya and the Last Dragon\nJune 30th Spider-Man No Way Home\n\n
URL:https://www.awegov.com/event/movie-night-at-antioch-water-park-2/
LOCATION:Antioch Water Park\, 4701 Lone Tree Way\, Antioch\, CA\, 94531\, United States
CATEGORIES:Events
ATTACH;FMTTYPE=image/jpeg:https://www.awegov.com/wp-content/uploads/2022/06/movie-night-antioch.jpg
END:VEVENT
END:VCALENDAR