BEGIN:VCALENDAR
VERSION:2.0
PRODID:-//City of Antioch, California - ECPv4.6.26.1//NONSGML v1.0//EN
CALSCALE:GREGORIAN
METHOD:PUBLISH
X-WR-CALNAME:City of Antioch, California
X-ORIGINAL-URL:https://www.awegov.com
X-WR-CALDESC:Events for City of Antioch, California
BEGIN:VEVENT
DTSTART;TZID=UTC-8:20220703T150000
DTEND;TZID=UTC-8:20220703T210000
DTSTAMP:20260422T173232
CREATED:20220609T175252Z
LAST-MODIFIED:20220609T175252Z
UID:68046-1656860400-1656882000@www.awegov.com
SUMMARY:Military Tribute Concert
DESCRIPTION:Military Tribute Concert \nJuly 3rd\, 2022 3:00 pm – 9:00 pm \n2nd & E Street \nPlease join us in Downtown Antioch at our main stage on 2nd and E Street. The Air Force Band of the Golden West will be headlining a day of great music celebrating our Military. This event is free to the community. \nFood Trucks will be there including Cousins Maine Lobster Truck. This is a celebration you won’t want to miss\, here is our lineup. 3pm – 4:30pm The Illusions\, 5pm – 6:30pm The Grove Room Band\, 7pm – 8:30pm Air Force Band of the Golden West. \n
URL:https://www.awegov.com/event/military-tribute-concert/
LOCATION:Downtown Antioch Main Stage\, 398 W 2nd St\, Antioch\, CA\, 94509\, United States
CATEGORIES:Events
ATTACH;FMTTYPE=image/jpeg:https://www.awegov.com/wp-content/uploads/2022/06/military-concert.jpg
END:VEVENT
END:VCALENDAR