BEGIN:VCALENDAR
VERSION:2.0
PRODID:-//City of Antioch, California - ECPv4.6.26.1//NONSGML v1.0//EN
CALSCALE:GREGORIAN
METHOD:PUBLISH
X-WR-CALNAME:City of Antioch, California
X-ORIGINAL-URL:https://www.awegov.com
X-WR-CALDESC:Events for City of Antioch, California
BEGIN:VEVENT
DTSTART;VALUE=DATE:20230529
DTEND;VALUE=DATE:20230530
DTSTAMP:20260421T184851
CREATED:20221204T142458Z
LAST-MODIFIED:20221204T142458Z
UID:72876-1685318400-1685404799@www.awegov.com
SUMMARY:Memorial Day
DESCRIPTION:City Holiday\n City Offices are Closed \n
URL:https://www.awegov.com/event/memorial-day-2-2-2-2-2/
CATEGORIES:Holidays
ATTACH;FMTTYPE=image/jpeg:https://www.awegov.com/wp-content/uploads/2017/09/holidays-generic.jpg
END:VEVENT
END:VCALENDAR