BEGIN:VCALENDAR
VERSION:2.0
PRODID:-//City of Antioch, California - ECPv4.6.26.1//NONSGML v1.0//EN
CALSCALE:GREGORIAN
METHOD:PUBLISH
X-WR-CALNAME:City of Antioch, California
X-ORIGINAL-URL:https://www.awegov.com
X-WR-CALDESC:Events for City of Antioch, California
BEGIN:VEVENT
DTSTART;VALUE=DATE:20250120
DTEND;VALUE=DATE:20250121
DTSTAMP:20260422T020258
CREATED:20241212T214320Z
LAST-MODIFIED:20241212T214320Z
UID:111766-1737331200-1737417599@www.awegov.com
SUMMARY:Martin Luther King Jr's Birthday
DESCRIPTION:City Holiday\n City Offices are Closed \n  \n
URL:https://www.awegov.com/event/martin-luther-king-jrs-birthday-2-2-2-2-2-2-3/
CATEGORIES:Holidays
ATTACH;FMTTYPE=image/jpeg:https://www.awegov.com/wp-content/uploads/2017/09/holidays-generic.jpg
END:VEVENT
END:VCALENDAR