BEGIN:VCALENDAR
VERSION:2.0
PRODID:-//City of Antioch, California - ECPv4.6.26.1//NONSGML v1.0//EN
CALSCALE:GREGORIAN
METHOD:PUBLISH
X-WR-CALNAME:City of Antioch, California
X-ORIGINAL-URL:https://www.awegov.com
X-WR-CALDESC:Events for City of Antioch, California
BEGIN:VEVENT
DTSTART;TZID=UTC-8:20230809T180000
DTEND;TZID=UTC-8:20230809T180000
DTSTAMP:20260422T000010
CREATED:20230803T174914Z
LAST-MODIFIED:20230803T174914Z
UID:79108-1691604000-1691604000@www.awegov.com
SUMMARY:L Street Project Neighborhood Meeting
DESCRIPTION:City-Letter-L-St-English-and-Spanish-with-Exhibits\n
URL:https://www.awegov.com/event/l-street-project-neighborhood-meeting/
LOCATION:Maintenance Service Center Multipurpose Room\, 1201 W 4th St.\, Antioch\, CA\, 94509\, United States
CATEGORIES:Meetings
END:VEVENT
END:VCALENDAR