BEGIN:VCALENDAR
VERSION:2.0
PRODID:-//City of Antioch, California - ECPv4.6.26.1//NONSGML v1.0//EN
CALSCALE:GREGORIAN
METHOD:PUBLISH
X-WR-CALNAME:City of Antioch, California
X-ORIGINAL-URL:https://www.awegov.com
X-WR-CALDESC:Events for City of Antioch, California
BEGIN:VEVENT
DTSTART;VALUE=DATE:20230619
DTEND;VALUE=DATE:20230620
DTSTAMP:20260421T220547
CREATED:20221204T142604Z
LAST-MODIFIED:20221204T142604Z
UID:72885-1687132800-1687219199@www.awegov.com
SUMMARY:Juneteenth
DESCRIPTION:City Holiday\n City Offices are Closed \n
URL:https://www.awegov.com/event/juneteenth/
CATEGORIES:Holidays
ATTACH;FMTTYPE=image/jpeg:https://www.awegov.com/wp-content/uploads/2017/09/holidays-generic.jpg
END:VEVENT
END:VCALENDAR