BEGIN:VCALENDAR
VERSION:2.0
PRODID:-//City of Antioch, California - ECPv4.6.26.1//NONSGML v1.0//EN
CALSCALE:GREGORIAN
METHOD:PUBLISH
X-WR-CALNAME:City of Antioch, California
X-ORIGINAL-URL:https://www.awegov.com
X-WR-CALDESC:Events for City of Antioch, California
BEGIN:VEVENT
DTSTART;TZID=UTC-8:20231202T160000
DTEND;TZID=UTC-8:20231202T190000
DTSTAMP:20260421T140336
CREATED:20230414T201716Z
LAST-MODIFIED:20230414T201716Z
UID:76344-1701532800-1701543600@www.awegov.com
SUMMARY:Holiday Delites Celebration & Parade
DESCRIPTION:Holiday Delites Celebration & Parade\nDate: Saturday\, December 2nd\nTime: 4:00pm-7:00pm\nLocation: Waldie Plaza \nVisit Antioch’s historic Rivertown and experience our annual Holiday Delites Celebration taking place on Saturday\, December 2nd. This rain or shine event features our illustrious holiday parade filled with local performers and moving floats\, family photo opportunities with Mr. & Mrs. Claus\, cookie decorating and much more! You and your family won’t want to miss this! \n
URL:https://www.awegov.com/event/holiday-delites-celebration-parade/
LOCATION:Waldie Plaza\, Waldie Plaza\, Antioch\, CA\, 94509\, United States
CATEGORIES:Events
ATTACH;FMTTYPE=image/jpeg:https://www.awegov.com/wp-content/uploads/2023/04/holiday-delites-event-cover-square.jpg
END:VEVENT
END:VCALENDAR