BEGIN:VCALENDAR
VERSION:2.0
PRODID:-//City of Antioch, California - ECPv4.6.26.1//NONSGML v1.0//EN
CALSCALE:GREGORIAN
METHOD:PUBLISH
X-WR-CALNAME:City of Antioch, California
X-ORIGINAL-URL:https://www.awegov.com
X-WR-CALDESC:Events for City of Antioch, California
BEGIN:VEVENT
DTSTART;TZID=UTC-8:20230704T160000
DTEND;TZID=UTC-8:20230704T160000
DTSTAMP:20260421T222930
CREATED:20230329T202837Z
LAST-MODIFIED:20230329T203119Z
UID:74530-1688486400-1688486400@www.awegov.com
SUMMARY:Fourth of July Celebration
DESCRIPTION:Fourth of July Celebration \nTime: 4:00pm | Fireworks will begin after dusk \nLocation: Waldie Plaza \nRead more here \n
URL:https://www.awegov.com/event/fourth-of-july-celebration/
CATEGORIES:Events
ATTACH;FMTTYPE=image/jpeg:https://www.awegov.com/wp-content/uploads/2023/02/4th-of-july-sqr.jpg
END:VEVENT
END:VCALENDAR