BEGIN:VCALENDAR
VERSION:2.0
PRODID:-//City of Antioch, California - ECPv4.6.26.1//NONSGML v1.0//EN
CALSCALE:GREGORIAN
METHOD:PUBLISH
X-WR-CALNAME:City of Antioch, California
X-ORIGINAL-URL:https://www.awegov.com
X-WR-CALDESC:Events for City of Antioch, California
BEGIN:VEVENT
DTSTART;VALUE=DATE:20200407
DTEND;VALUE=DATE:20200408
DTSTAMP:20260423T221001
CREATED:20191129T183957Z
LAST-MODIFIED:20200401T162247Z
UID:39435-1586217600-1586303999@www.awegov.com
SUMMARY:Economic Development Commission Meeting Canceled
DESCRIPTION:Meeting Canceled \n
URL:https://www.awegov.com/event/economic-development-commission-meeting-3-2-2-2-2-2-2-2-2/
LOCATION:Antioch Community Center\, 4703 Lone Tree Way\, Antioch\, CA\, 94531\, United States
CATEGORIES:Economic Development Commission Meeting
ATTACH;FMTTYPE=image/jpeg:https://www.awegov.com/wp-content/uploads/2017/04/event-economic-meeting.jpg
END:VEVENT
END:VCALENDAR