BEGIN:VCALENDAR
VERSION:2.0
PRODID:-//City of Antioch, California - ECPv4.6.26.1//NONSGML v1.0//EN
CALSCALE:GREGORIAN
METHOD:PUBLISH
X-WR-CALNAME:City of Antioch, California
X-ORIGINAL-URL:https://www.awegov.com
X-WR-CALDESC:Events for City of Antioch, California
BEGIN:VEVENT
DTSTART;TZID=UTC-8:20200602T180000
DTEND;TZID=UTC-8:20200602T180000
DTSTAMP:20260423T172848
CREATED:20191129T184027Z
LAST-MODIFIED:20200529T002423Z
UID:39437-1591120800-1591120800@www.awegov.com
SUMMARY:Economic Development Commission Meeting
DESCRIPTION:Regular meetings are held at 6:00 p.m. in the Council Chamber on the first Tuesday in the months of February\, April\, June\, October and December\, the third Tuesday in July\, and on the first Tuesday on an as-needed basis only during the months of March\, May\, September and November. No meetings are held during January or August. \n\n\n\nAgenda\n\n\n\n
URL:https://www.awegov.com/event/economic-development-commission-meeting-3-2-2-2-2-2-2-2-2-2/
LOCATION:Antioch Community Center\, 4703 Lone Tree Way\, Antioch\, CA\, 94531\, United States
CATEGORIES:Economic Development Commission Meeting
ATTACH;FMTTYPE=image/jpeg:https://www.awegov.com/wp-content/uploads/2017/04/event-economic-meeting.jpg
END:VEVENT
END:VCALENDAR