BEGIN:VCALENDAR
VERSION:2.0
PRODID:-//City of Antioch, California - ECPv4.6.26.1//NONSGML v1.0//EN
CALSCALE:GREGORIAN
METHOD:PUBLISH
X-WR-CALNAME:City of Antioch, California
X-ORIGINAL-URL:https://www.awegov.com
X-WR-CALDESC:Events for City of Antioch, California
BEGIN:VEVENT
DTSTART;VALUE=DATE:20210601
DTEND;VALUE=DATE:20210602
DTSTAMP:20260422T172650
CREATED:20210428T200834Z
LAST-MODIFIED:20210527T193925Z
UID:56392-1622505600-1622591999@www.awegov.com
SUMMARY:Economic Development Commission Meeting Cancelled
DESCRIPTION:Meeting Cancelled \n  \n
URL:https://www.awegov.com/event/economic-development-commission-meeting-3-2-2-2-2-2-2-2-2-2-2-2-2-2-2-2-2-2/
CATEGORIES:Economic Development Commission Meeting
ATTACH;FMTTYPE=image/jpeg:https://www.awegov.com/wp-content/uploads/2017/04/event-economic-meeting.jpg
END:VEVENT
END:VCALENDAR