BEGIN:VCALENDAR
VERSION:2.0
PRODID:-//City of Antioch, California - ECPv4.6.26.1//NONSGML v1.0//EN
CALSCALE:GREGORIAN
METHOD:PUBLISH
X-WR-CALNAME:City of Antioch, California
X-ORIGINAL-URL:https://www.awegov.com
X-WR-CALDESC:Events for City of Antioch, California
BEGIN:VEVENT
DTSTART;VALUE=DATE:20221206
DTEND;VALUE=DATE:20221207
DTSTAMP:20260422T092242
CREATED:20211128T215707Z
LAST-MODIFIED:20221205T120357Z
UID:63320-1670284800-1670371199@www.awegov.com
SUMMARY:Economic Development Commission Meeting Canceled
DESCRIPTION:Regular meetings are held at 7:00 p.m. in the Council Chamber on the first Tuesday in the months of February\, April\, June\, October and December\, the third Tuesday in July\, and on the first Tuesday on an as-needed basis only during the months of March\, May\, September and November. No meetings are held during January or August. \n  \n
URL:https://www.awegov.com/event/economic-development-commission-meeting-3-2-2-2-2-2-2-2-2-2-2-2-2-2-2-2-2-2-2-2-2-2-2-2-2-2/
CATEGORIES:Economic Development Commission Meeting
ATTACH;FMTTYPE=image/jpeg:https://www.awegov.com/wp-content/uploads/2017/04/event-economic-meeting.jpg
END:VEVENT
END:VCALENDAR