BEGIN:VCALENDAR
VERSION:2.0
PRODID:-//City of Antioch, California - ECPv4.6.26.1//NONSGML v1.0//EN
CALSCALE:GREGORIAN
METHOD:PUBLISH
X-WR-CALNAME:City of Antioch, California
X-ORIGINAL-URL:https://www.awegov.com
X-WR-CALDESC:Events for City of Antioch, California
BEGIN:VEVENT
DTSTART;VALUE=DATE:20201127
DTEND;VALUE=DATE:20201128
DTSTAMP:20260423T124508
CREATED:20191129T180951Z
LAST-MODIFIED:20191129T180951Z
UID:39384-1606435200-1606521599@www.awegov.com
SUMMARY:Day after Thanksgiving
DESCRIPTION:City Holiday\n City Offices are Closed \n
URL:https://www.awegov.com/event/day-after-thanksgiving-3-2/
CATEGORIES:Holidays
ATTACH;FMTTYPE=image/jpeg:https://www.awegov.com/wp-content/uploads/2017/09/holidays-generic.jpg
END:VEVENT
END:VCALENDAR