BEGIN:VCALENDAR
VERSION:2.0
PRODID:-//City of Antioch, California - ECPv4.6.26.1//NONSGML v1.0//EN
CALSCALE:GREGORIAN
METHOD:PUBLISH
X-WR-CALNAME:City of Antioch, California
X-ORIGINAL-URL:https://www.awegov.com
X-WR-CALDESC:Events for City of Antioch, California
BEGIN:VEVENT
DTSTART;TZID=UTC-8:20250414T180000
DTEND;TZID=UTC-8:20250414T180000
DTSTAMP:20260422T121102
CREATED:20250411T201954Z
LAST-MODIFIED:20250411T201954Z
UID:121029-1744653600-1744653600@www.awegov.com
SUMMARY:Committee for the Lone Tree Golf Course
DESCRIPTION:Location: Lone Tree Golf Course\, Board Room 4800 Golf Course Rd. \nAgenda \n
URL:https://www.awegov.com/event/committee-for-the-lone-tree-golf-course-22619-2-2-2-2-2-2/
LOCATION:Lone Tree Golf Course\, 4800 Golf Course Rd.\, ANTIOCH\, CA\, 94531\, United States
CATEGORIES:City Council Meeting
ATTACH;FMTTYPE=image/jpeg:https://www.awegov.com/wp-content/uploads/2018/10/ltgc-mtg.jpg
END:VEVENT
END:VCALENDAR