BEGIN:VCALENDAR
VERSION:2.0
PRODID:-//City of Antioch, California - ECPv4.6.26.1//NONSGML v1.0//EN
CALSCALE:GREGORIAN
METHOD:PUBLISH
X-WR-CALNAME:City of Antioch, California
X-ORIGINAL-URL:https://www.awegov.com
X-WR-CALDESC:Events for City of Antioch, California
BEGIN:VEVENT
DTSTART;TZID=UTC-8:20250602T133000
DTEND;TZID=UTC-8:20250602T133000
DTSTAMP:20260422T120941
CREATED:20250602T183711Z
LAST-MODIFIED:20250602T183711Z
UID:129268-1748871000-1748871000@www.awegov.com
SUMMARY:City-Schools Standing Committee Meeting
DESCRIPTION:Agenda \n
URL:https://www.awegov.com/event/city-schools-060225/
LOCATION:CA\, United States
CATEGORIES:Meetings
ATTACH;FMTTYPE=image/jpeg:https://www.awegov.com/wp-content/uploads/2021/09/ausdsc-mtg.jpg
END:VEVENT
END:VCALENDAR