BEGIN:VCALENDAR
VERSION:2.0
PRODID:-//City of Antioch, California - ECPv4.6.26.1//NONSGML v1.0//EN
CALSCALE:GREGORIAN
METHOD:PUBLISH
X-WR-CALNAME:City of Antioch, California
X-ORIGINAL-URL:https://www.awegov.com
X-WR-CALDESC:Events for City of Antioch, California
BEGIN:VEVENT
DTSTART;TZID=UTC-8:20210226T170000
DTEND;TZID=UTC-8:20210226T170000
DTSTAMP:20260423T045407
CREATED:20210225T202535Z
LAST-MODIFIED:20210225T202535Z
UID:54081-1614358800-1614358800@www.awegov.com
SUMMARY:City Council Special Meeting
DESCRIPTION:City Council Special Meeting \nAgenda \n
URL:https://www.awegov.com/event/city-council-special-meeting-2/
CATEGORIES:Meetings,Special Meeting
ATTACH;FMTTYPE=image/jpeg:https://www.awegov.com/wp-content/uploads/2021/01/special-meeting.jpg
END:VEVENT
END:VCALENDAR