BEGIN:VCALENDAR
VERSION:2.0
PRODID:-//City of Antioch, California - ECPv4.6.26.1//NONSGML v1.0//EN
CALSCALE:GREGORIAN
METHOD:PUBLISH
X-WR-CALNAME:City of Antioch, California
X-ORIGINAL-URL:https://www.awegov.com
X-WR-CALDESC:Events for City of Antioch, California
BEGIN:VEVENT
DTSTART;TZID=UTC-8:20200623T190000
DTEND;TZID=UTC-8:20200623T190000
DTSTAMP:20260423T142545
CREATED:20191129T180605Z
LAST-MODIFIED:20200619T150520Z
UID:39380-1592938800-1592938800@www.awegov.com
SUMMARY:City Council Meeting
DESCRIPTION:The Antioch City Council meetings are held on the second and fourth Tuesday evening of every month. \nAgenda \n
URL:https://www.awegov.com/event/city-council-meeting-32-3-3-2-2-2-2-2-2-2-2-2-2-2/
LOCATION:Antioch Community Center\, 4703 Lone Tree Way\, Antioch\, CA\, 94531\, United States
CATEGORIES:City Council Meeting
ATTACH;FMTTYPE=image/jpeg:https://www.awegov.com/wp-content/uploads/2017/04/event-city-council-meeting.jpg
END:VEVENT
END:VCALENDAR