BEGIN:VCALENDAR
VERSION:2.0
PRODID:-//City of Antioch, California - ECPv4.6.26.1//NONSGML v1.0//EN
CALSCALE:GREGORIAN
METHOD:PUBLISH
X-WR-CALNAME:City of Antioch, California
X-ORIGINAL-URL:https://www.awegov.com
X-WR-CALDESC:Events for City of Antioch, California
BEGIN:VEVENT
DTSTART;TZID=UTC-8:20200922T190000
DTEND;TZID=UTC-8:20200922T190000
DTSTAMP:20260423T184612
CREATED:20200605T172834Z
LAST-MODIFIED:20200918T151111Z
UID:45408-1600801200-1600801200@www.awegov.com
SUMMARY:City Council Meeting
DESCRIPTION:The Antioch City Council meetings are held on the second and fourth Tuesday evening of every month. \n\n\n\nAgenda\n\n\n\n
URL:https://www.awegov.com/event/city-council-meeting-32-3-3-2-2-2-2-2-2-2-2-2-2-2-2-2-2-2-2-2/
LOCATION:Antioch Community Center\, 4703 Lone Tree Way\, Antioch\, CA\, 94531\, United States
CATEGORIES:City Council Meeting
ATTACH;FMTTYPE=image/jpeg:https://www.awegov.com/wp-content/uploads/2017/04/event-city-council-meeting.jpg
END:VEVENT
END:VCALENDAR