BEGIN:VCALENDAR
VERSION:2.0
PRODID:-//City of Antioch, California - ECPv4.6.26.1//NONSGML v1.0//EN
CALSCALE:GREGORIAN
METHOD:PUBLISH
X-WR-CALNAME:City of Antioch, California
X-ORIGINAL-URL:https://www.awegov.com
X-WR-CALDESC:Events for City of Antioch, California
BEGIN:VEVENT
DTSTART;VALUE=DATE:20230711
DTEND;VALUE=DATE:20230712
DTSTAMP:20260422T000632
CREATED:20221204T144540Z
LAST-MODIFIED:20230710T164304Z
UID:72922-1689033600-1689119999@www.awegov.com
SUMMARY:City Council Meeting Canceled
DESCRIPTION:[vc_row][vc_column][vc_column_text css=”.vc_custom_1689007199119{margin-bottom: 0px !important;}”]Meeting Canceled[/vc_column_text][/vc_column][/vc_row]\n
URL:https://www.awegov.com/event/city-council-meeting-32-3-3-2-2-2-2-2-2-2-2-2-2-2-2-2-2-2-2-2-2-2-2-2-2-2-2-2-2-2-2-2-2-2-2-2-2-2-2-2-2-2-2-2-2-2-2-2-2-3-2-2-2-2-2-2-2-2-2-2-2-2-2-2-2-2-2-2-2-2-2-2-2-2-2-2-2-2-2-2-2-2-2-2-2-2/
LOCATION:Antioch City Hall\, 200 H Street\, Antioch\, 94509\, United States
CATEGORIES:City Council Meeting
ATTACH;FMTTYPE=image/jpeg:https://www.awegov.com/wp-content/uploads/2017/04/event-city-council-meeting.jpg
END:VEVENT
END:VCALENDAR