BEGIN:VCALENDAR
VERSION:2.0
PRODID:-//City of Antioch, California - ECPv4.6.26.1//NONSGML v1.0//EN
CALSCALE:GREGORIAN
METHOD:PUBLISH
X-WR-CALNAME:City of Antioch, California
X-ORIGINAL-URL:https://www.awegov.com
X-WR-CALDESC:Events for City of Antioch, California
BEGIN:VEVENT
DTSTART;VALUE=DATE:20251225
DTEND;VALUE=DATE:20251226
DTSTAMP:20260422T022441
CREATED:20241212T194414Z
LAST-MODIFIED:20241212T194414Z
UID:111523-1766620800-1766707199@www.awegov.com
SUMMARY:Christmas Day (Observed)
DESCRIPTION:City Holiday\n City Offices are Closed \n
URL:https://www.awegov.com/event/christmas-day-2-2-2-2-2-2-2/
CATEGORIES:Holidays
ATTACH;FMTTYPE=image/jpeg:https://www.awegov.com/wp-content/uploads/2017/09/holidays-generic.jpg
END:VEVENT
END:VCALENDAR