BEGIN:VCALENDAR
VERSION:2.0
PRODID:-//City of Antioch, California - ECPv4.6.26.1//NONSGML v1.0//EN
CALSCALE:GREGORIAN
METHOD:PUBLISH
X-WR-CALNAME:City of Antioch, California
X-ORIGINAL-URL:https://www.awegov.com
X-WR-CALDESC:Events for City of Antioch, California
BEGIN:VEVENT
DTSTART;TZID=UTC-8:20200820T150000
DTEND;TZID=UTC-8:20200820T150000
DTSTAMP:20260423T155613
CREATED:20200819T002706Z
LAST-MODIFIED:20200819T002847Z
UID:48263-1597935600-1597935600@www.awegov.com
SUMMARY:City Council Cannabis Standing Committee Meeting
DESCRIPTION:The Antioch City Council Cannabis Standing Committee meetings. \n\n\n\nAgenda\n\n\n\n
URL:https://www.awegov.com/event/cannabis-standing-committee/
LOCATION:CA\, United States
CATEGORIES:Cannabis Standing Committee
ATTACH;FMTTYPE=image/jpeg:https://www.awegov.com/wp-content/uploads/2020/07/csc-mtg-cal.jpg
END:VEVENT
END:VCALENDAR