BEGIN:VCALENDAR
VERSION:2.0
PRODID:-//City of Antioch, California - ECPv4.6.26.1//NONSGML v1.0//EN
CALSCALE:GREGORIAN
METHOD:PUBLISH
X-WR-CALNAME:City of Antioch, California
X-ORIGINAL-URL:https://www.awegov.com
X-WR-CALDESC:Events for City of Antioch, California
BEGIN:VEVENT
DTSTART;TZID=UTC-8:20230420T140000
DTEND;TZID=UTC-8:20230420T140000
DTSTAMP:20260421T135637
CREATED:20230419T181352Z
LAST-MODIFIED:20230419T181815Z
UID:76454-1681999200-1681999200@www.awegov.com
SUMMARY:City Council Cannabis Standing Committee Meeting
DESCRIPTION:[vc_row][vc_column][vc_column_text css=”.vc_custom_1681928116412{margin-bottom: 0px !important;}”]The Antioch City Council Cannabis Standing Committee meetings.\nAgenda[/vc_column_text][/vc_column][/vc_row]\n
URL:https://www.awegov.com/event/cannabis-standing-committee-3-2-2-2-2-2-2-2/
LOCATION:Antioch City Hall\, 200 H Street\, Antioch\, 94509\, United States
CATEGORIES:Cannabis Standing Committee
ATTACH;FMTTYPE=image/jpeg:https://www.awegov.com/wp-content/uploads/2020/07/csc-mtg-cal.jpg
END:VEVENT
END:VCALENDAR