BEGIN:VCALENDAR
VERSION:2.0
PRODID:-//City of Antioch, California - ECPv4.6.26.1//NONSGML v1.0//EN
CALSCALE:GREGORIAN
METHOD:PUBLISH
X-WR-CALNAME:City of Antioch, California
X-ORIGINAL-URL:https://www.awegov.com
X-WR-CALDESC:Events for City of Antioch, California
BEGIN:VEVENT
DTSTART;TZID=UTC-8:20231027T150000
DTEND;TZID=UTC-8:20231027T150000
DTSTAMP:20260421T190716
CREATED:20231024T084306Z
LAST-MODIFIED:20231026T203537Z
UID:81009-1698418800-1698418800@www.awegov.com
SUMMARY:City Council Cannabis Standing Committee Meeting
DESCRIPTION:[vc_row][vc_column][vc_column_text css=”.vc_custom_1698352610894{margin-bottom: 0px !important;}”]The Antioch City Council Cannabis Standing Committee meetings. \nAgenda[/vc_column_text][/vc_column][/vc_row]\n
URL:https://www.awegov.com/event/cannabis-standing-committee-3-2-2-2-2-2-2-2-2/
LOCATION:Antioch City Hall\, 200 H Street\, Antioch\, 94509\, United States
CATEGORIES:Cannabis Standing Committee
ATTACH;FMTTYPE=image/jpeg:https://www.awegov.com/wp-content/uploads/2020/07/csc-mtg-cal.jpg
END:VEVENT
END:VCALENDAR