BEGIN:VCALENDAR
VERSION:2.0
PRODID:-//City of Antioch, California - ECPv4.6.26.1//NONSGML v1.0//EN
CALSCALE:GREGORIAN
METHOD:PUBLISH
X-WR-CALNAME:City of Antioch, California
X-ORIGINAL-URL:https://www.awegov.com
X-WR-CALDESC:Events for City of Antioch, California
BEGIN:VEVENT
DTSTART;TZID=UTC-8:20210218T100000
DTEND;TZID=UTC-8:20210218T100000
DTSTAMP:20260423T093204
CREATED:20210114T175630Z
LAST-MODIFIED:20210127T205529Z
UID:52609-1613642400-1613642400@www.awegov.com
SUMMARY:Bridging the Gap Roundtable Discussions
DESCRIPTION:Bridging the Gap Roundtable Discussions \n  \n
URL:https://www.awegov.com/event/bridging-the-gap-roundtable-discussions-2-2/
CATEGORIES:Meetings,Special Meeting
ATTACH;FMTTYPE=image/jpeg:https://www.awegov.com/wp-content/uploads/2021/01/special-meeting.jpg
END:VEVENT
END:VCALENDAR