BEGIN:VCALENDAR
VERSION:2.0
PRODID:-//City of Antioch, California - ECPv4.6.26.1//NONSGML v1.0//EN
CALSCALE:GREGORIAN
METHOD:PUBLISH
X-WR-CALNAME:City of Antioch, California
X-ORIGINAL-URL:https://www.awegov.com
X-WR-CALDESC:Events for City of Antioch, California
BEGIN:VEVENT
DTSTART;VALUE=DATE:20240623
DTEND;VALUE=DATE:20240624
DTSTAMP:20260423T015916
CREATED:20240404T171652Z
LAST-MODIFIED:20240404T171934Z
UID:99308-1719100800-1719187199@www.awegov.com
SUMMARY:Box Boat Derby
DESCRIPTION:
URL:https://www.awegov.com/event/box-boat-derby/
CATEGORIES:Events,Water Park Events
END:VEVENT
END:VCALENDAR