BEGIN:VCALENDAR
VERSION:2.0
PRODID:-//City of Antioch, California - ECPv4.6.26.1//NONSGML v1.0//EN
CALSCALE:GREGORIAN
METHOD:PUBLISH
X-WR-CALNAME:City of Antioch, California
X-ORIGINAL-URL:https://www.awegov.com
X-WR-CALDESC:Events for City of Antioch, California
BEGIN:VEVENT
DTSTART;TZID=UTC-8:20200903T150000
DTEND;TZID=UTC-8:20200903T150000
DTSTAMP:20260423T183913
CREATED:20200605T182732Z
LAST-MODIFIED:20200824T162012Z
UID:45476-1599145200-1599145200@www.awegov.com
SUMMARY:BOAA Administrative Review Panel Meeting
DESCRIPTION:Administrative Appeals meetings are held on the first Thursday of the month at 3:00 p.m. \nAgenda \n
URL:https://www.awegov.com/event/boaa-administrative-review-panel-meeting-13-2-2-2-2-2-2-2-2-2-2-2-2-2-2-2-2-3-2-2/
LOCATION:Antioch Community Center\, 4703 Lone Tree Way\, Antioch\, CA\, 94531\, United States
CATEGORIES:BOAA Administrative Review Panel Meeting
ATTACH;FMTTYPE=image/jpeg:https://www.awegov.com/wp-content/uploads/2017/04/event-boaa-meeting.jpg
END:VEVENT
END:VCALENDAR