BEGIN:VCALENDAR
VERSION:2.0
PRODID:-//City of Antioch, California - ECPv4.6.26.1//NONSGML v1.0//EN
CALSCALE:GREGORIAN
METHOD:PUBLISH
X-WR-CALNAME:City of Antioch, California
X-ORIGINAL-URL:https://www.awegov.com
X-WR-CALDESC:Events for City of Antioch, California
BEGIN:VEVENT
DTSTART;TZID=UTC-8:20210611T150000
DTEND;TZID=UTC-8:20210611T150000
DTSTAMP:20260422T173403
CREATED:20210608T170607Z
LAST-MODIFIED:20210608T170646Z
UID:57777-1623423600-1623423600@www.awegov.com
SUMMARY:CDBG Standing Committee Meeting
DESCRIPTION:Community Development Block Grant (CDBG) Standing Committee of the City Council\nAgenda \n
URL:https://www.awegov.com/event/boaa-administrative-review-panel-meeting-13-2-2-2-2-2-2-2-2-2-2-2-2-2-2-2-2-3-2-2-2-2-2-2-2-2-2-3-2-2/
CATEGORIES:CDBG Standing Committee
ATTACH;FMTTYPE=image/jpeg:https://www.awegov.com/wp-content/uploads/2021/03/cdbgsc.jpg
END:VEVENT
END:VCALENDAR