BEGIN:VCALENDAR
VERSION:2.0
PRODID:-//City of Antioch, California - ECPv4.6.26.1//NONSGML v1.0//EN
CALSCALE:GREGORIAN
METHOD:PUBLISH
X-WR-CALNAME:City of Antioch, California
X-ORIGINAL-URL:https://www.awegov.com
X-WR-CALDESC:Events for City of Antioch, California
BEGIN:VEVENT
DTSTART;TZID=UTC-8:20250402T093000
DTEND;TZID=UTC-8:20250402T093000
DTSTAMP:20260422T134744
CREATED:20250401T010858Z
LAST-MODIFIED:20250401T010858Z
UID:119707-1743586200-1743586200@www.awegov.com
SUMMARY:CDBG Standing Committee Meeting
DESCRIPTION:Community Development Block Grant (CDBG) Standing Committee of the City Council\nAgenda \nPlace: Antioch Community Center\nWest Island Room 58\n4703 Lone Tree Way\nAntioch\, CA 94531 \n
URL:https://www.awegov.com/event/boaa-administrative-review-panel-meeting-13-2-2-2-2-2-2-2-2-2-2-2-2-2-2-2-2-3-2-2-2-2-2-2-2-2-2-3-2-2-2-2-2-2/
LOCATION:Antioch Community Center\, 4703 Lone Tree Way\, Antioch\, CA\, 94531\, United States
CATEGORIES:CDBG Standing Committee
ATTACH;FMTTYPE=image/jpeg:https://www.awegov.com/wp-content/uploads/2021/03/cdbgsc.jpg
END:VEVENT
END:VCALENDAR